BEGIN:VCALENDAR
VERSION:2.0
BEGIN:VEVENT
SUMMARY:Reach out to Darling Marine Center (University of Maine) about Aquaculture Business Incubator
DESCRIPTION:Reach out to them for information about their program.\n\nDescription: Business incubator space at UMaine's Darling Marine Center in Walpole, coordinated by the Maine Aquaculture Innovation Center (MAIC). Provides flowing seawater labs, shellfish hatchery, algal production facilities, and technical expertise to aquaculture startups on the Damariscotta River estuary.\n\n- Phone: (207) 832-1075\n- Email: christopher.v.davis@gmail.com\n- Source: https://founder-nav.com/programs/reczw5nxXxWjD0ZgM\n\n---\nBrought to you by Founder Nav, helping entrepreneurs navigate the entrepreneurial ecosystem.
DTSTART:20260425T100047Z
DTEND:20260425T103047Z
END:VEVENT
END:VCALENDAR