BEGIN:VCALENDAR
VERSION:2.0
BEGIN:VEVENT
SUMMARY:Reach out to Life Sciences Entrepreneurship Center (UC Berkeley LSEC) about LSEC Venture Grant Program
DESCRIPTION:Reach out to them for information about their program.\n\nDescription: UC Berkeley's Life Sciences Entrepreneurship Center flagship program that provides $100K academic translational grants to Berkeley faculty-led life science startups, paired with $100K investment from the SkyDeck Fund, for a minimum of $200K total per company.\n\n- Email: lifesciences@berkeley.edu\n- Source: https://founder-nav.com/programs/reczs6LVV0yPDBHe3\n\n---\nBrought to you by Founder Nav, helping entrepreneurs navigate the entrepreneurial ecosystem.
DTSTART:20260425T100017Z
DTEND:20260425T103017Z
END:VEVENT
END:VCALENDAR