BEGIN:VCALENDAR
VERSION:2.0
BEGIN:VEVENT
SUMMARY:Reach out to Maine Center for Entrepreneurs (MCE) about Cultivator Food, Beverage & Agriculture Accelerator
DESCRIPTION:Reach out to them for information about their program.\n\nDescription: A 12-month rolling-enrollment accelerator for established Maine food, beverage, and agriculture companies looking to scale, offering assessments, coaching, and access to industry-expert mentors.\n\n- Source: https://founder-nav.com/programs/reczqA2GmMFFg18aG\n\n---\nBrought to you by Founder Nav, helping entrepreneurs navigate the entrepreneurial ecosystem.
DTSTART:20260425T100003Z
DTEND:20260425T103003Z
END:VEVENT
END:VCALENDAR