BEGIN:VCALENDAR
VERSION:2.0
BEGIN:VEVENT
SUMMARY:Reach out to Emporia Area Chamber about Leadership Emporia Academy
DESCRIPTION:Reach out to them for information about their program.\n\nDescription: Annual leadership development program with a 2-day opening retreat and five full-day sessions, building collaborative leadership skills using Kansas Leadership Center competencies.\n\n- Phone: (620) 342-1600\n- Email: jmckenna@emporiakschamber.org\n- Source: https://founder-nav.com/programs/reczlYAXUXV5AkQ2E\n\n---\nBrought to you by Founder Nav, helping entrepreneurs navigate the entrepreneurial ecosystem.
DTSTART:20260425T100023Z
DTEND:20260425T103023Z
END:VEVENT
END:VCALENDAR