BEGIN:VCALENDAR
VERSION:2.0
BEGIN:VEVENT
SUMMARY:Reach out to West Des Moines Chamber of Commerce about Latino Trade Network (LTN)
DESCRIPTION:Reach out to them for information about their program.\n\nDescription: Monthly peer networking program for Latino entrepreneurs and professionals across Central Iowa to share best practices, generate referrals, learn from mentors, and grow their businesses together.\n\n- Email: everett@wdmchamber.org\n- Source: https://founder-nav.com/programs/reczkj9OitQeKFZIu\n\n---\nBrought to you by Founder Nav, helping entrepreneurs navigate the entrepreneurial ecosystem.
DTSTART:20260425T100051Z
DTEND:20260425T103051Z
END:VEVENT
END:VCALENDAR