BEGIN:VCALENDAR
VERSION:2.0
BEGIN:VEVENT
SUMMARY:Reach out to UC Irvine Beckman Laser Institute – Photonic Incubator about Photonic Incubator
DESCRIPTION:Reach out to them for information about their program.\n\nDescription: Provides space and resources for start-ups developing light-based medical devices, fostering collaboration with faculty to advance innovative healthcare technologies and support commercialization efforts through partnerships, research, and access to specialized expertise and equipment.\n\n- Phone: (949) 824-9491\n- Email: Choib@uci.edu\n- Source: https://founder-nav.com/programs/reczhSfTVWW06fUxz\n\n---\nBrought to you by Founder Nav, helping entrepreneurs navigate the entrepreneurial ecosystem.
DTSTART:20260425T100005Z
DTEND:20260425T103005Z
END:VEVENT
END:VCALENDAR