BEGIN:VCALENDAR
VERSION:2.0
BEGIN:VEVENT
SUMMARY:Reach out to Sutardja Center for Entrepreneurship & Technology (SCET – UC Berkeley) about SCET Collider Labs & Courses
DESCRIPTION:Reach out to them for information about their program.\n\nDescription: SCET's hands-on courses where students form startup teams to create technology solutions for industry or social challenges. Includes Challenge Lab (full venture creation process from idea to pitch), Berkeley Method of Entrepreneurship Bootcamp, Technology Entrepreneurship, and specialized topics courses. Also features the A. Richard Newton Lecture Series with distinguished innovators. DeCal student-run courses also available.\n\n- Email: scet-academics@berkeley.edu\n- Source: https://founder-nav.com/programs/reczfv1Pl5frA127a\n\n---\nBrought to you by Founder Nav, helping entrepreneurs navigate the entrepreneurial ecosystem.
DTSTART:20260425T100047Z
DTEND:20260425T103047Z
END:VEVENT
END:VCALENDAR