BEGIN:VCALENDAR
VERSION:2.0
BEGIN:VEVENT
SUMMARY:Reach out to INNOP Global Accelerator about INNOP Global Incubation & Acceleration Program
DESCRIPTION:Reach out to them for information about their program.\n\nDescription: Downtown Fort Collins global incubation hub offering 6-month or 1-year customized mentorship and acceleration programs focusing on AgTech, clean water, renewable energy, biotech, IoT, and e-commerce.\n\n- Phone: (970) 988-8121\n- Email: info@innopglobal.com\n- Source: https://founder-nav.com/programs/reczWMnMO7blMq3gn\n\n---\nBrought to you by Founder Nav, helping entrepreneurs navigate the entrepreneurial ecosystem.
DTSTART:20260425T100009Z
DTEND:20260425T103009Z
END:VEVENT
END:VCALENDAR