BEGIN:VCALENDAR
VERSION:2.0
BEGIN:VEVENT
SUMMARY:Reach out to Leatherby Center for Entrepreneurship and Business Ethics about Leatherby Center Incubator (Launch Labs)
DESCRIPTION:Reach out to them for information about their program.\n\nDescription: A structured incubator for Chapman University students, staff, faculty, and alumni in the pre-revenue startup phase. Teams participate for up to two semesters, receiving mentoring, formal progress reviews, collaboration with other Launch Labs teams, and connections to the Chapman Alumni Entrepreneur Network and SoCal ecosystem events. No cost to participants; IP remains with founders. Open to all industries with a special emphasis on scalable tech ventures in entertainment and sports (leveraging Chapman's #4-ranked film school).\n\n- Email: entrepreneurs@chapman.edu\n- Source: https://founder-nav.com/programs/reczJLOdIqXToZgaQ\n\n---\nBrought to you by Founder Nav, helping entrepreneurs navigate the entrepreneurial ecosystem.
DTSTART:20260425T100004Z
DTEND:20260425T103004Z
END:VEVENT
END:VCALENDAR