BEGIN:VCALENDAR
VERSION:2.0
BEGIN:VEVENT
SUMMARY:Reach out to Hera Hub – Mission Valley about Launch Academy
DESCRIPTION:Reach out to them for information about their program.\n\nDescription: Foundational entrepreneurship program for women at Hera Hub Mission Valley, designed to help early-stage founders develop and launch their business ideas. Delivered within Hera Hub's coworking and mentorship ecosystem, with access to workshops, expert office hours, and peer community support.\n\n- Phone: (619) 800-1001\n- Email: melissa@herahub.com\n- Source: https://founder-nav.com/programs/reczGDxvFkCZkJg2r\n\n---\nBrought to you by Founder Nav, helping entrepreneurs navigate the entrepreneurial ecosystem.
DTSTART:20260425T100055Z
DTEND:20260425T103055Z
END:VEVENT
END:VCALENDAR