BEGIN:VCALENDAR
VERSION:2.0
BEGIN:VEVENT
SUMMARY:Reach out to Aquillius Innovation Hub about Investor Readiness Bootcamp
DESCRIPTION:Reach out to them for information about their program.\n\nDescription: 10-week entrepreneurship program for aspiring and early-stage biotech and medtech entrepreneurs at Aquillius Innovation Hub. Combines business education, mentorship, and investor readiness training, supported by access to 25,000+ sq ft of wet labs, cleanrooms, vivarium, Digital Lab (AI/ML), and prototyping tools.\n\n- Phone: (858) 533-7500\n- Email: hub@aquillius.com\n- Source: https://founder-nav.com/programs/reczG4XMkMpQGvv5Q\n\n---\nBrought to you by Founder Nav, helping entrepreneurs navigate the entrepreneurial ecosystem.
DTSTART:20260425T100012Z
DTEND:20260425T103012Z
END:VEVENT
END:VCALENDAR