BEGIN:VCALENDAR
VERSION:2.0
BEGIN:VEVENT
SUMMARY:Reach out to San Diego & Imperial SBDC Network – The Brink about SBDC Business Advising & Mentoring
DESCRIPTION:Reach out to them for information about their program.\n\nDescription: Provides no-cost business consulting, low-cost training, and resources to help entrepreneurs and small businesses start, grow, and succeed in San Diego and Imperial counties through expert advising, workshops, and specialized support services.\n\n- Phone: (619) 482-6391\n- Email: sdsbdc@swccd.edu\n- Source: https://founder-nav.com/programs/recz6bvKnKWXQMai2\n\n---\nBrought to you by Founder Nav, helping entrepreneurs navigate the entrepreneurial ecosystem.
DTSTART:20260425T100045Z
DTEND:20260425T103045Z
END:VEVENT
END:VCALENDAR