BEGIN:VCALENDAR
VERSION:2.0
BEGIN:VEVENT
SUMMARY:Reach out to Unknown Hub about Opportunity Gateway Program
DESCRIPTION:Reach out to them for information about their program.\n\nDescription: Crucible Ignitor: Helps participants launch technology-based startups using federal and university lab-sourced innovations for defense and commercial applications, offering virtual workshops and mentorship for early-stage entrepreneurs in California, the Pacific Northwest, and Hawaii.\n\nCrucible Accelerator: Provides mentorship, resources, and strategic partnership opportunities to help startups in the Pacific Northwest scale and address real-world challenges, with a focus on defense and regional market expansion.\n\nAPEX Accelerator: Offers expert guidance for businesses seeking government contracts, including help with certifications and innovation grants, and supports companies in navigating federal, state, and local procurement platforms.\n\n- Phone: (951) 827-7941\n- Email: tp@ucr.edu\n- Source: https://founder-nav.com/programs/recz4J39UTVxwvwIb\n\n---\nBrought to you by Founder Nav, helping entrepreneurs navigate the entrepreneurial ecosystem.
DTSTART:20260425T100049Z
DTEND:20260425T103049Z
END:VEVENT
END:VCALENDAR