BEGIN:VCALENDAR
VERSION:2.0
BEGIN:VEVENT
SUMMARY:Reach out to Mid-Atlantic Veterans Business Outreach Center - Maryland Innovation Center about Military Spouse Pathway to Business
DESCRIPTION:Reach out to them for information about their program.\n\nDescription: A free entrepreneurship training program tailored specifically for military spouses, providing business education and resources designed around the unique lifestyle challenges of military families. Available in-person, online, and on-demand to accommodate varied schedules and frequent relocations.\n\n- Source: https://founder-nav.com/programs/recz1XcIpE6CDYZ8F\n\n---\nBrought to you by Founder Nav, helping entrepreneurs navigate the entrepreneurial ecosystem.
DTSTART:20260425T100018Z
DTEND:20260425T103018Z
END:VEVENT
END:VCALENDAR