BEGIN:VCALENDAR
VERSION:2.0
BEGIN:VEVENT
SUMMARY:Reach out to The EDGE at 321 about FITCI Incubator Program
DESCRIPTION:Reach out to them for information about their program.\n\nDescription: A business incubator program at the Frederick Innovative Technology Center (FITCI) located at The EDGE at 321, providing workspace, mentoring, business development support, and ecosystem connections for technology and life science entrepreneurs in Frederick, Maryland. Part of the BioHealth Capital Region.\n\n- Source: https://founder-nav.com/programs/recyx3hmWual8oKw7\n\n---\nBrought to you by Founder Nav, helping entrepreneurs navigate the entrepreneurial ecosystem.
DTSTART:20260425T100059Z
DTEND:20260425T103059Z
END:VEVENT
END:VCALENDAR