BEGIN:VCALENDAR
VERSION:2.0
BEGIN:VEVENT
SUMMARY:Reach out to The New Bohemian Innovation Collaborative (NewBoCo) about Iowa Startup Accelerator
DESCRIPTION:Reach out to them for information about their program.\n\nDescription: 7-week evening accelerator helping Iowa-based early-stage founders strengthen branding, marketing, sales, and revenue growth strategies.\n\n- Source: https://founder-nav.com/programs/recysxEVeUWCDmuaZ\n\n---\nBrought to you by Founder Nav, helping entrepreneurs navigate the entrepreneurial ecosystem.
DTSTART:20260425T100058Z
DTEND:20260425T103058Z
END:VEVENT
END:VCALENDAR