BEGIN:VCALENDAR
VERSION:2.0
BEGIN:VEVENT
SUMMARY:Reach out to University of Iowa SBDC  about No-Cost Business Advising & Counseling
DESCRIPTION:Reach out to them for information about their program.\n\nDescription: Free, confidential, customized one-on-one business counseling for entrepreneurs and small businesses in the Iowa City area, with special connections to University of Iowa resources.\n\n- Phone: (319) 335-3742\n- Source: https://founder-nav.com/programs/recysllwYDlIGqVbE\n\n---\nBrought to you by Founder Nav, helping entrepreneurs navigate the entrepreneurial ecosystem.
DTSTART:20260425T100030Z
DTEND:20260425T103030Z
END:VEVENT
END:VCALENDAR