BEGIN:VCALENDAR
VERSION:2.0
BEGIN:VEVENT
SUMMARY:Reach out to Brunswick Landing  about TechPlace Technology Incubator
DESCRIPTION:Reach out to them for information about their program.\n\nDescription: A 95,000 sq ft technology and manufacturing incubator at Brunswick Landing (former NASB campus), opened in 2015. Supports early-stage manufacturers and tech companies in aerospace, composites, biotech, clean energy, and IT with shared labs, machine shop, office space, and support services.\n\n- Phone: (207) 607-4195\n- Source: https://founder-nav.com/programs/recyeCwthET7orjRX\n\n---\nBrought to you by Founder Nav, helping entrepreneurs navigate the entrepreneurial ecosystem.
DTSTART:20260425T100025Z
DTEND:20260425T103025Z
END:VEVENT
END:VCALENDAR