BEGIN:VCALENDAR
VERSION:2.0
BEGIN:VEVENT
SUMMARY:Reach out to 20Fathoms about Startup Coaching
DESCRIPTION:Reach out to them for information about their program.\n\nDescription: Startup coaches share their time, wisdom, and connections to help entrepreneurs build successful businesses and avoid common mistakes. They can help entrepreneurs with troubleshooting, opportunity and gap analysis, resources, connections, and getting clear about strategic priorities.\n\n- Phone: (231) 938-6519\n- Source: https://founder-nav.com/programs/recye31N88WEF4AgD\n\n---\nBrought to you by Founder Nav, helping entrepreneurs navigate the entrepreneurial ecosystem.
DTSTART:20260425T100048Z
DTEND:20260425T103048Z
END:VEVENT
END:VCALENDAR