BEGIN:VCALENDAR
VERSION:2.0
BEGIN:VEVENT
SUMMARY:Reach out to FoundersBoost Denver about FoundersBoost Denver Pre-Accelerator
DESCRIPTION:Reach out to them for information about their program.\n\nDescription: Six-week pre-accelerator for early-stage startups helping founders refine their pitch, product-market fit, and investor readiness. Part of a global network of pre-accelerators. No equity taken.\n\n- Phone: (303) 534-8500\n- Email: info@denverchamber.org\n- Source: https://founder-nav.com/programs/recyZ3pQxMzVGrgji\n\n---\nBrought to you by Founder Nav, helping entrepreneurs navigate the entrepreneurial ecosystem.
DTSTART:20260425T100045Z
DTEND:20260425T103045Z
END:VEVENT
END:VCALENDAR