BEGIN:VCALENDAR
VERSION:2.0
BEGIN:VEVENT
SUMMARY:Reach out to SDSU ZIP Launchpad about ZIP Launchpad Incubator
DESCRIPTION:Reach out to them for information about their program.\n\nDescription: Provides SDSU students, staff, faculty, and researchers with mentorship, resources, and support to transform early-stage ideas into successful startups, offering a hands-on entrepreneurial experience that complements academic learning and fosters innovation.\n\n- Source: https://founder-nav.com/programs/recyYL9uf0ljk2acS\n\n---\nBrought to you by Founder Nav, helping entrepreneurs navigate the entrepreneurial ecosystem.
DTSTART:20260425T100016Z
DTEND:20260425T103016Z
END:VEVENT
END:VCALENDAR