BEGIN:VCALENDAR
VERSION:2.0
BEGIN:VEVENT
SUMMARY:Reach out to Innovate Boise  about Network Accelerator
DESCRIPTION:Reach out to them for information about their program.\n\nDescription: Innovate Boise's core program connecting founders, inventors, researchers, investors, and corporate collaborators across the Mountain West into a cohesive innovation ecosystem focused on commercialization and scaling.\n\n- Source: https://founder-nav.com/programs/recyIbpzT3hpXnOqK\n\n---\nBrought to you by Founder Nav, helping entrepreneurs navigate the entrepreneurial ecosystem.
DTSTART:20260425T100053Z
DTEND:20260425T103053Z
END:VEVENT
END:VCALENDAR