BEGIN:VCALENDAR
VERSION:2.0
BEGIN:VEVENT
SUMMARY:Reach out to Launch Lawrence about Lift Off (Pre-Seed Accelerator)
DESCRIPTION:Reach out to them for information about their program.\n\nDescription: Personalized pre-seed accelerator for Lawrence-area technology entrepreneurs, providing specific guidance, connections, and hands-on support to build products and refine go-to-market strategies with a team of experienced local entrepreneurs.\n\n- Source: https://founder-nav.com/programs/recy4m5ckAgbJq74l\n\n---\nBrought to you by Founder Nav, helping entrepreneurs navigate the entrepreneurial ecosystem.
DTSTART:20260425T100042Z
DTEND:20260425T103042Z
END:VEVENT
END:VCALENDAR