BEGIN:VCALENDAR
VERSION:2.0
BEGIN:VEVENT
SUMMARY:Reach out to Sutardja Center for Entrepreneurship & Technology (SCET – UC Berkeley) about Startup Semester at Berkeley
DESCRIPTION:Reach out to them for information about their program.\n\nDescription: An immersive program for international students and early-stage founders to experience Berkeley's entrepreneurship ecosystem. Two tracks: Venture Discovery (undergraduates exploring new venture opportunities, F-1 visa) and Venture Validation (graduate-level early-stage founders preparing for acceleration, J-1 visa). Students take SCET courses, build startups, and gain UC Berkeley academic credit.\n\n- Email: scet-academics@berkeley.edu\n- Source: https://founder-nav.com/programs/recy09WWyxT0plcf1\n\n---\nBrought to you by Founder Nav, helping entrepreneurs navigate the entrepreneurial ecosystem.
DTSTART:20260425T100032Z
DTEND:20260425T103032Z
END:VEVENT
END:VCALENDAR