BEGIN:VCALENDAR
VERSION:2.0
BEGIN:VEVENT
SUMMARY:Reach out to Youngstown Business Incubator (YBI) about Rising Tides
DESCRIPTION:Reach out to them for information about their program.\n\nDescription: Regional initiative providing northeastern Ohio manufacturers with workforce development, technology adoption funding, supply chain connections, and industrial innovation support across 7 historically underserved counties.\n\n- Phone: (330) 746-5003\n- Email: Info@YBI.org\n- Source: https://founder-nav.com/programs/recxyx0QvosLymt1p\n\n---\nBrought to you by Founder Nav, helping entrepreneurs navigate the entrepreneurial ecosystem.
DTSTART:20260421T100016Z
DTEND:20260421T103016Z
END:VEVENT
END:VCALENDAR