BEGIN:VCALENDAR
VERSION:2.0
BEGIN:VEVENT
SUMMARY:Reach out to Education Incubator about XLR8YOUTH
DESCRIPTION:Reach out to them for information about their program.\n\nDescription: Youth entrepreneurship accelerator for students in grades 7–12, developed through a partnership between Education Incubator and Sultan Ventures/XLR8HI. Provides hands-on business education, pitch competitions, and mentorship to develop the next generation of Hawaii entrepreneurs.\n\n- Email: info@educationincubator.org\n- Source: https://founder-nav.com/programs/recxxNmtDaPzDvLb0\n\n---\nBrought to you by Founder Nav, helping entrepreneurs navigate the entrepreneurial ecosystem.
DTSTART:20260425T100001Z
DTEND:20260425T103001Z
END:VEVENT
END:VCALENDAR