BEGIN:VCALENDAR
VERSION:2.0
BEGIN:VEVENT
SUMMARY:Reach out to Meridian Chamber of Commerce about Workshops & Trainings
DESCRIPTION:Reach out to them for information about their program.\n\nDescription: Professional development workshops and training sessions offered by the Meridian Chamber of Commerce covering business skills, leadership, marketing, and other topics for member businesses and community professionals.\n\n- Phone: (208) 888-2817\n- Email: info@meridianchamber.org\n- Source: https://founder-nav.com/programs/recxx4IcpPUqE49V2\n\n---\nBrought to you by Founder Nav, helping entrepreneurs navigate the entrepreneurial ecosystem.
DTSTART:20260425T100010Z
DTEND:20260425T103010Z
END:VEVENT
END:VCALENDAR