BEGIN:VCALENDAR
VERSION:2.0
BEGIN:VEVENT
SUMMARY:Reach out to University of Iowa SBDC  about Practical Business Training Workshops
DESCRIPTION:Reach out to them for information about their program.\n\nDescription: Affordable practical business training workshops for Iowa City area entrepreneurs covering business planning, marketing, finance, and operations, with access to University of Iowa resources.\n\n- Email: paul-heath@uiowa.edu\n- Source: https://founder-nav.com/programs/recxe8hMwLplpKitE\n\n---\nBrought to you by Founder Nav, helping entrepreneurs navigate the entrepreneurial ecosystem.
DTSTART:20260425T100015Z
DTEND:20260425T103015Z
END:VEVENT
END:VCALENDAR