BEGIN:VCALENDAR
VERSION:2.0
BEGIN:VEVENT
SUMMARY:Reach out to GIZMO-CDA about Classes
DESCRIPTION:Reach out to them for information about their program.\n\nDescription: Community classes and workshops at GIZMO-CDA covering woodworking, electronics, ceramics, 3D printing, welding, and more for makers and entrepreneurs of all ages.\n\n- Phone: (208) 929-4029\n- Email: Info@GIZMO-CDA.org\n- Source: https://founder-nav.com/programs/recxb3sBw74d9nEQQ\n\n---\nBrought to you by Founder Nav, helping entrepreneurs navigate the entrepreneurial ecosystem.
DTSTART:20260425T100051Z
DTEND:20260425T103051Z
END:VEVENT
END:VCALENDAR