BEGIN:VCALENDAR
VERSION:2.0
BEGIN:VEVENT
SUMMARY:Reach out to Innosphere Ventures about Innosphere Ventures Commercialization Program
DESCRIPTION:Reach out to them for information about their program.\n\nDescription: Colorado's leading science and technology incubator offering an 8-month accelerator program for high-impact startups in bioscience, medtech, cleantech, AI, and advanced materials.\n\n- Phone: (970) 221-1301\n- Email: mike@innosphereventures.org\n- Source: https://founder-nav.com/programs/recxSXu14IiAgviWi\n\n---\nBrought to you by Founder Nav, helping entrepreneurs navigate the entrepreneurial ecosystem.
DTSTART:20260425T100058Z
DTEND:20260425T103058Z
END:VEVENT
END:VCALENDAR