BEGIN:VCALENDAR
VERSION:2.0
BEGIN:VEVENT
SUMMARY:Reach out to California Women’s Business Centers about Women's Business Accelerator (English & Spanish)
DESCRIPTION:Reach out to them for information about their program.\n\nDescription: Cohort-based accelerator programs for women entrepreneurs available in both English and Spanish, designed to accelerate business growth and readiness.\n\n- Phone: (833) 939-3709\n- Source: https://founder-nav.com/programs/recxRk5mayvrHgwD7\n\n---\nBrought to you by Founder Nav, helping entrepreneurs navigate the entrepreneurial ecosystem.
DTSTART:20260425T100054Z
DTEND:20260425T103054Z
END:VEVENT
END:VCALENDAR