BEGIN:VCALENDAR
VERSION:2.0
BEGIN:VEVENT
SUMMARY:Reach out to Fresno Area Hispanic Foundation (FAHF) about Downtown Business Hub Incubator
DESCRIPTION:Reach out to them for information about their program.\n\nDescription: Provides bilingual business incubation, technical assistance, and access to capital for underserved entrepreneurs, offering long-term training, counseling, and virtual office services to support start-up growth and business success in the Western United States.\n\n- Phone: (559) 222-8705\n- Email: incubator@fresnodbh.org\n- Source: https://founder-nav.com/programs/recxQvJh0D2QqaJMi\n\n---\nBrought to you by Founder Nav, helping entrepreneurs navigate the entrepreneurial ecosystem.
DTSTART:20260425T100016Z
DTEND:20260425T103016Z
END:VEVENT
END:VCALENDAR