BEGIN:VCALENDAR
VERSION:2.0
BEGIN:VEVENT
SUMMARY:Reach out to Tech Parks Arizona about Tech Parks Arizona Innovation Ecosystem
DESCRIPTION:Reach out to them for information about their program.\n\nDescription: A University of Arizona-managed technology park and innovation hub connecting early-stage startups with established tech companies in flexible workspaces to accelerate research commercialization and startup growth.\n\n- Source: https://founder-nav.com/programs/recxQOMEVj8FnXt79\n\n---\nBrought to you by Founder Nav, helping entrepreneurs navigate the entrepreneurial ecosystem.
DTSTART:20260425T100032Z
DTEND:20260425T103032Z
END:VEVENT
END:VCALENDAR