BEGIN:VCALENDAR
VERSION:2.0
BEGIN:VEVENT
SUMMARY:Reach out to 24/7 BLAC about Black Business & Entrepreneur Accelerator (BBEA)
DESCRIPTION:Reach out to them for information about their program.\n\nDescription: 14-week accelerator program designed to support Black entrepreneurs in the Cedar Valley with business development, funding access, and community connections.\n\n- Email: twentyfoursevenblac@gmail.com\n- Source: https://founder-nav.com/programs/recxJPwNmYQTt9ehT\n\n---\nBrought to you by Founder Nav, helping entrepreneurs navigate the entrepreneurial ecosystem.
DTSTART:20260425T100033Z
DTEND:20260425T103033Z
END:VEVENT
END:VCALENDAR