BEGIN:VCALENDAR
VERSION:2.0
BEGIN:VEVENT
SUMMARY:Reach out to Center For Entrepreneurship & Innovation (CEI) about CIEKC Small Business Incubator
DESCRIPTION:Reach out to them for information about their program.\n\nDescription: Acts as a hub supporting small business start-ups, fostering innovation, and developing a skilled workforce through training, mentorship, and collaboration with local organizations to drive community transformation.\n\n- Source: https://founder-nav.com/programs/recx8wsMHTflgsLg3\n\n---\nBrought to you by Founder Nav, helping entrepreneurs navigate the entrepreneurial ecosystem.
DTSTART:20260425T100018Z
DTEND:20260425T103018Z
END:VEVENT
END:VCALENDAR