BEGIN:VCALENDAR
VERSION:2.0
BEGIN:VEVENT
SUMMARY:Reach out to Maryland Energy Innovation Accelerator about MEIA Launchpad Program
DESCRIPTION:Reach out to them for information about their program.\n\nDescription: A six-month commercialization planning program for high-potential clean energy technologies from Maryland universities or federal labs. Helps inventor-led teams develop business plans, refine their commercialization strategy, build startup teams with Energy Executives in Residence, and prepare for investment. Limited to university/federal lab-affiliated inventors.\n\n- Source: https://founder-nav.com/programs/recwvfe34Z7wxF1nh\n\n---\nBrought to you by Founder Nav, helping entrepreneurs navigate the entrepreneurial ecosystem.
DTSTART:20260425T100046Z
DTEND:20260425T103046Z
END:VEVENT
END:VCALENDAR