BEGIN:VCALENDAR
VERSION:2.0
BEGIN:VEVENT
SUMMARY:Reach out to World Trade Center Delaware about Procurement Partners Program
DESCRIPTION:Reach out to them for information about their program.\n\nDescription: The WTC Delaware Procurement Partners Program trains Delaware companies to identify and respond to tenders, RFPs, and bidding opportunities from international organizations, U.S. government agencies, multilateral donors, and international aid and development contractors. Includes custom-designed trips to Washington D.C. and New York to meet with decision-makers.\n\n- Phone: (302) 656-7905\n- Email: cstone@wtcde.org\n- Source: https://founder-nav.com/programs/recwsjc4sJXblqnFM\n\n---\nBrought to you by Founder Nav, helping entrepreneurs navigate the entrepreneurial ecosystem.
DTSTART:20260425T100048Z
DTEND:20260425T103048Z
END:VEVENT
END:VCALENDAR