BEGIN:VCALENDAR
VERSION:2.0
BEGIN:VEVENT
SUMMARY:Reach out to Georgia State University about UGA Idea Accelerator
DESCRIPTION:Reach out to them for information about their program.\n\nDescription: The UGA Idea Accelerator Program, sponsored by UGA’s Entrepreneurship Program and ATDC, takes place twice each fall and spring semester. There are two, four-week “business boot camp” sessions that prepare students for the next step in their business development. After participating in the Idea Accelerator student entrepreneurs are eligible to take the next step with the UGA Entrepreneurship Build Test Accelerator.\n\n- Phone: (706) 542-8100\n- Source: https://founder-nav.com/programs/recwsXFhvpf977iD2\n\n---\nBrought to you by Founder Nav, helping entrepreneurs navigate the entrepreneurial ecosystem.
DTSTART:20260425T100025Z
DTEND:20260425T103025Z
END:VEVENT
END:VCALENDAR