BEGIN:VCALENDAR
VERSION:2.0
BEGIN:VEVENT
SUMMARY:Reach out to Boise State – Venture College about Venture College Incubator
DESCRIPTION:Reach out to them for information about their program.\n\nDescription: A semester-long incubator at Boise State's Venture College where participants test business ideas with customers, develop an MVP, learn startup concepts, and build traction — open to students and community members.\n\n- Source: https://founder-nav.com/programs/recwr2t5dcHzEQO4U\n\n---\nBrought to you by Founder Nav, helping entrepreneurs navigate the entrepreneurial ecosystem.
DTSTART:20260425T100021Z
DTEND:20260425T103021Z
END:VEVENT
END:VCALENDAR