BEGIN:VCALENDAR
VERSION:2.0
BEGIN:VEVENT
SUMMARY:Reach out to Arizona Commerce Authority about Plug and Play accelerateAZ
DESCRIPTION:Reach out to them for information about their program.\n\nDescription: An ACA corporate innovation accelerator connecting startups with Arizona corporations, universities, and government agencies to develop pilots and test emerging technologies through two specialized tracks: Manufacturing and Sustainability.\n\n- Source: https://founder-nav.com/programs/recwXJyiNKVXNEp3c\n\n---\nBrought to you by Founder Nav, helping entrepreneurs navigate the entrepreneurial ecosystem.
DTSTART:20260425T100002Z
DTEND:20260425T103002Z
END:VEVENT
END:VCALENDAR