BEGIN:VCALENDAR
VERSION:2.0
BEGIN:VEVENT
SUMMARY:Reach out to Lavin Entrepreneurship Center about Lavin Entrepreneurship Program
DESCRIPTION:Reach out to them for information about their program.\n\nDescription: Year-long extracurricular program for SDSU undergraduate and graduate students of all majors. Provides hands-on workshops, mentorship from San Diego's entrepreneurship community, networking, and career guidance to develop entrepreneurial skills and mindset.\n\n- Phone: (619) 594-3260\n- Email: lavincenter@sdsu.edu\n- Source: https://founder-nav.com/programs/recwV4SyRjyrM1cVj\n\n---\nBrought to you by Founder Nav, helping entrepreneurs navigate the entrepreneurial ecosystem.
DTSTART:20260425T100017Z
DTEND:20260425T103017Z
END:VEVENT
END:VCALENDAR