BEGIN:VCALENDAR
VERSION:2.0
BEGIN:VEVENT
SUMMARY:Reach out to Center for Industrial Research and Service (CIRAS) about ExporTech (Export Acceleration Program)
DESCRIPTION:Reach out to them for information about their program.\n\nDescription: 12-week export acceleration program helping Iowa manufacturers and businesses develop and execute international market entry strategies and export plans.\n\n- Email: ciras@iastate.edu\n- Source: https://founder-nav.com/programs/recwJT1INLuFY67p2\n\n---\nBrought to you by Founder Nav, helping entrepreneurs navigate the entrepreneurial ecosystem.
DTSTART:20260425T100052Z
DTEND:20260425T103052Z
END:VEVENT
END:VCALENDAR