BEGIN:VCALENDAR
VERSION:2.0
BEGIN:VEVENT
SUMMARY:Reach out to Life Bridge Health about LifeBridge Health BioIncubator
DESCRIPTION:Reach out to them for information about their program.\n\nDescription: Operates as a hospital-based business incubator, connecting emerging health businesses and technologies with physicians, offering lab and office space, research equipment, and collaborative opportunities to advance medical innovation.\n\n- Phone: (410) 601-9970\n- Email: lbhbioincubator@lifebridgehealth.org\n- Source: https://founder-nav.com/programs/recwEdaXiOl0FDuAb\n\n---\nBrought to you by Founder Nav, helping entrepreneurs navigate the entrepreneurial ecosystem.
DTSTART:20260425T100042Z
DTEND:20260425T103042Z
END:VEVENT
END:VCALENDAR