BEGIN:VCALENDAR
VERSION:2.0
BEGIN:VEVENT
SUMMARY:Reach out to San Diego Sport Innovators about P.A.T.H. For Athletes Program
DESCRIPTION:Reach out to them for information about their program.\n\nDescription: A business transition program for professional athletes helping them launch and grow businesses after their sports careers.\n\n- Email: info@sdsportsinnovators.org\n- Source: https://founder-nav.com/programs/recwA0ihufRlcYu7s\n\n---\nBrought to you by Founder Nav, helping entrepreneurs navigate the entrepreneurial ecosystem.
DTSTART:20260425T100024Z
DTEND:20260425T103024Z
END:VEVENT
END:VCALENDAR