BEGIN:VCALENDAR
VERSION:2.0
BEGIN:VEVENT
SUMMARY:Reach out to CSU STRATA about CSU STRATA Startup Support
DESCRIPTION:Reach out to them for information about their program.\n\nDescription: Technology transfer and startup support hub at Colorado State University helping faculty, staff, and students commercialize research innovations, with entrepreneurial training, mentorship, and IP guidance.\n\n- Phone: (970) 491-2933\n- Source: https://founder-nav.com/programs/recw1KIcgbsw9FFZ3\n\n---\nBrought to you by Founder Nav, helping entrepreneurs navigate the entrepreneurial ecosystem.
DTSTART:20260425T100006Z
DTEND:20260425T103006Z
END:VEVENT
END:VCALENDAR