BEGIN:VCALENDAR
VERSION:2.0
BEGIN:VEVENT
SUMMARY:Reach out to Arlington Economic Development about ReLaunch program
DESCRIPTION:Reach out to them for information about their program.\n\nDescription: Small business grant program designed to take your business to the next level. Through our exclusive ReLaunch program, small businesses can access a wealth of resources, including business consulting services and/or the development of technology solutions.\n\n- Phone: (703) 228-0808\n- Email: aed@Arlingtonva.us\n- Source: https://founder-nav.com/programs/recw009Sbpf0yhluu\n\n---\nBrought to you by Founder Nav, helping entrepreneurs navigate the entrepreneurial ecosystem.
DTSTART:20260425T100005Z
DTEND:20260425T103005Z
END:VEVENT
END:VCALENDAR