BEGIN:VCALENDAR
VERSION:2.0
BEGIN:VEVENT
SUMMARY:Reach out to Silver Spring Innovation Center about Silver Spring Innovation Center Incubator Program
DESCRIPTION:Reach out to them for information about their program.\n\nDescription: A health IT and cybersecurity-focused incubator in downtown Silver Spring providing 20,000 sq ft of office and co-working space. Specifically supports minority-, female-, and disabled-owned businesses. Located in a federally designated HUBZone near federal agencies, enabling tenant companies to qualify for government set-aside contracts.\n\n- Phone: (301) 589-9442\n- Source: https://founder-nav.com/programs/recvx15abA8bsHdhV\n\n---\nBrought to you by Founder Nav, helping entrepreneurs navigate the entrepreneurial ecosystem.
DTSTART:20260425T100022Z
DTEND:20260425T103022Z
END:VEVENT
END:VCALENDAR