BEGIN:VCALENDAR
VERSION:2.0
BEGIN:VEVENT
SUMMARY:Reach out to Carlsen Center for Innovation & Entrepreneurship about Mentor Network powered by California Bank of Commerce
DESCRIPTION:Reach out to them for information about their program.\n\nDescription: Provides entrepreneurs with access to one-on-one, group, and speed mentoring opportunities, engaging mentors in various formats to support individuals at different stages of their entrepreneurial journey.\n\n- Phone: (916) 278-5001\n- Email: carlsen.center@csus.edu\n- Source: https://founder-nav.com/programs/recvvn8GKqsGv9jLV\n\n---\nBrought to you by Founder Nav, helping entrepreneurs navigate the entrepreneurial ecosystem.
DTSTART:20260425T100041Z
DTEND:20260425T103041Z
END:VEVENT
END:VCALENDAR