BEGIN:VCALENDAR
VERSION:2.0
BEGIN:VEVENT
SUMMARY:Reach out to Hatch - Norfolk about The Anomaly Academy
DESCRIPTION:Reach out to them for information about their program.\n\nDescription: Hands-on accelerator program modeled on national and international best practices, but tailored to the unique features of the entrepreneurial ecosystem in Southeastern Virginia. A simple roadmap that is implementable by anyone and is NOT dependent on the ever-changing technical world. It instead is centered around capitalizing on the wins you already have, and leveraging them to help you hit your goals.\n\n- Phone: (757) 295-8635\n- Email: paul@startwithhatch.com\n- Source: https://founder-nav.com/programs/recvuc945nb2UlFy1\n\n---\nBrought to you by Founder Nav, helping entrepreneurs navigate the entrepreneurial ecosystem.
DTSTART:20260425T100048Z
DTEND:20260425T103048Z
END:VEVENT
END:VCALENDAR