BEGIN:VCALENDAR
VERSION:2.0
BEGIN:VEVENT
SUMMARY:Reach out to Maine Center for Entrepreneurs (MCE) about Maine Mentor Network
DESCRIPTION:Reach out to them for information about their program.\n\nDescription: A statewide volunteer mentor network of 200+ experienced professionals and entrepreneurs matched with MCE program participants across industries including food, biosciences, and outdoor recreation.\n\n- Source: https://founder-nav.com/programs/recvq087Hlvv0P7sv\n\n---\nBrought to you by Founder Nav, helping entrepreneurs navigate the entrepreneurial ecosystem.
DTSTART:20260425T100037Z
DTEND:20260425T103037Z
END:VEVENT
END:VCALENDAR